BEGIN:VCALENDAR
VERSION:2.0
PRODID:-//Muziekvereniging Klarenbeek - ECPv6.15.20//NONSGML v1.0//EN
CALSCALE:GREGORIAN
METHOD:PUBLISH
X-WR-CALNAME:Muziekvereniging Klarenbeek
X-ORIGINAL-URL:https://www.muziekverenigingklarenbeek.nl
X-WR-CALDESC:Evenementen voor Muziekvereniging Klarenbeek
REFRESH-INTERVAL;VALUE=DURATION:PT1H
X-Robots-Tag:noindex
X-PUBLISHED-TTL:PT1H
BEGIN:VTIMEZONE
TZID:Europe/Amsterdam
BEGIN:DAYLIGHT
TZOFFSETFROM:+0100
TZOFFSETTO:+0200
TZNAME:CEST
DTSTART:20170326T010000
END:DAYLIGHT
BEGIN:STANDARD
TZOFFSETFROM:+0200
TZOFFSETTO:+0100
TZNAME:CET
DTSTART:20171029T010000
END:STANDARD
BEGIN:DAYLIGHT
TZOFFSETFROM:+0100
TZOFFSETTO:+0200
TZNAME:CEST
DTSTART:20180325T010000
END:DAYLIGHT
BEGIN:STANDARD
TZOFFSETFROM:+0200
TZOFFSETTO:+0100
TZNAME:CET
DTSTART:20181028T010000
END:STANDARD
BEGIN:DAYLIGHT
TZOFFSETFROM:+0100
TZOFFSETTO:+0200
TZNAME:CEST
DTSTART:20190331T010000
END:DAYLIGHT
BEGIN:STANDARD
TZOFFSETFROM:+0200
TZOFFSETTO:+0100
TZNAME:CET
DTSTART:20191027T010000
END:STANDARD
BEGIN:DAYLIGHT
TZOFFSETFROM:+0100
TZOFFSETTO:+0200
TZNAME:CEST
DTSTART:20200329T010000
END:DAYLIGHT
BEGIN:STANDARD
TZOFFSETFROM:+0200
TZOFFSETTO:+0100
TZNAME:CET
DTSTART:20201025T010000
END:STANDARD
BEGIN:DAYLIGHT
TZOFFSETFROM:+0100
TZOFFSETTO:+0200
TZNAME:CEST
DTSTART:20210328T010000
END:DAYLIGHT
BEGIN:STANDARD
TZOFFSETFROM:+0200
TZOFFSETTO:+0100
TZNAME:CET
DTSTART:20211031T010000
END:STANDARD
BEGIN:DAYLIGHT
TZOFFSETFROM:+0100
TZOFFSETTO:+0200
TZNAME:CEST
DTSTART:20220327T010000
END:DAYLIGHT
BEGIN:STANDARD
TZOFFSETFROM:+0200
TZOFFSETTO:+0100
TZNAME:CET
DTSTART:20221030T010000
END:STANDARD
BEGIN:DAYLIGHT
TZOFFSETFROM:+0100
TZOFFSETTO:+0200
TZNAME:CEST
DTSTART:20230326T010000
END:DAYLIGHT
BEGIN:STANDARD
TZOFFSETFROM:+0200
TZOFFSETTO:+0100
TZNAME:CET
DTSTART:20231029T010000
END:STANDARD
END:VTIMEZONE
BEGIN:VEVENT
DTSTART;TZID=Europe/Amsterdam:20220819T190000
DTEND;TZID=Europe/Amsterdam:20220819T193000
DTSTAMP:20260419T231055
CREATED:20220816T130434Z
LAST-MODIFIED:20220816T130434Z
UID:29997-1660935600-1660937400@www.muziekverenigingklarenbeek.nl
SUMMARY:Opening Klarenbeekse Kermis – Harmonieorkest
DESCRIPTION:
URL:https://www.muziekverenigingklarenbeek.nl/evenement/opening-klarenbeekse-kermis-harmonieorkest/
LOCATION:Kermisterrein Broekstraat\, Broekstraat\, Klarenbeek
END:VEVENT
BEGIN:VEVENT
DTSTART;TZID=Europe/Amsterdam:20220709T193000
DTEND;TZID=Europe/Amsterdam:20220709T230000
DTSTAMP:20260419T231055
CREATED:20220216T190131Z
LAST-MODIFIED:20220216T190131Z
UID:29963-1657395000-1657407600@www.muziekverenigingklarenbeek.nl
SUMMARY:Harmonieorkest\, opleidingsorkest\, kinderkoor - ''Ik hou van Klarenbeek''
DESCRIPTION:
URL:https://www.muziekverenigingklarenbeek.nl/evenement/harmonieorkest-opleidingsorkest-kinderkoor-ik-hou-van-klarenbeek/
LOCATION:Multifunctioneel Centrum Klarenbeek\, Bosweg 14\, Klarenbeek\, 7382 CC
END:VEVENT
BEGIN:VEVENT
DTSTART;TZID=Europe/Amsterdam:20220504T180000
DTEND;TZID=Europe/Amsterdam:20220504T203000
DTSTAMP:20260419T231055
CREATED:20220216T185842Z
LAST-MODIFIED:20220216T185842Z
UID:29961-1651687200-1651696200@www.muziekverenigingklarenbeek.nl
SUMMARY:Harmonieorkest - Dodenherdenking Oranjepark
DESCRIPTION:
URL:https://www.muziekverenigingklarenbeek.nl/evenement/harmonieorkest-dodenherdenking-oranjepark/
LOCATION:Oranjepark Apeldoorn\, Apeldoorn\, 7311 AB
END:VEVENT
BEGIN:VEVENT
DTSTART;TZID=Europe/Amsterdam:20220402T193000
DTEND;TZID=Europe/Amsterdam:20220402T220000
DTSTAMP:20260419T231055
CREATED:20220216T185606Z
LAST-MODIFIED:20220216T190603Z
UID:29957-1648927800-1648936800@www.muziekverenigingklarenbeek.nl
SUMMARY:Harmonieorkest\, aspiranten/opleidingsorkest\, kinderkoor - Concert
DESCRIPTION:
URL:https://www.muziekverenigingklarenbeek.nl/evenement/harmonieorkest-concert/
LOCATION:Het Boshuis\, Kerkweg 2\, Klarenbeek\, 7382 BN
END:VEVENT
BEGIN:VEVENT
DTSTART;TZID=Europe/Amsterdam:20211212T190000
DTEND;TZID=Europe/Amsterdam:20211212T220000
DTSTAMP:20260419T231055
CREATED:20211001T113921Z
LAST-MODIFIED:20211107T115819Z
UID:29928-1639335600-1639346400@www.muziekverenigingklarenbeek.nl
SUMMARY:Harmonieorkest en opleidingsorkest - Kerstsamenzang/Kerstconcert
DESCRIPTION:
URL:https://www.muziekverenigingklarenbeek.nl/evenement/kerstsamenzang-kerstconcert/
LOCATION:Het Boshuis\, Kerkweg 2\, Klarenbeek\, 7382 BN
END:VEVENT
BEGIN:VEVENT
DTSTART;TZID=Europe/Amsterdam:20211112T190000
DTEND;TZID=Europe/Amsterdam:20211112T210000
DTSTAMP:20260419T231055
CREATED:20211001T114212Z
LAST-MODIFIED:20211001T114254Z
UID:29930-1636743600-1636750800@www.muziekverenigingklarenbeek.nl
SUMMARY:Aspiranten en opleidingsorkest - Voorspeelavond/miniconcert
DESCRIPTION:
URL:https://www.muziekverenigingklarenbeek.nl/evenement/voorspeelavond-miniconcert/
LOCATION:Multifunctioneel Centrum Klarenbeek\, Bosweg 14\, Klarenbeek\, 7382 CC
END:VEVENT
BEGIN:VEVENT
DTSTART;TZID=Europe/Amsterdam:20200307T200000
DTEND;TZID=Europe/Amsterdam:20200307T230000
DTSTAMP:20260419T231055
CREATED:20191216T205028Z
LAST-MODIFIED:20200302T180517Z
UID:29811-1583611200-1583622000@www.muziekverenigingklarenbeek.nl
SUMMARY:Harmonieorkest - Concert samen met Harmonie Orkest Brummen
DESCRIPTION:
URL:https://www.muziekverenigingklarenbeek.nl/evenement/harmonieorkest-concert-samen-met-harmonie-orkest-brummen/
LOCATION:Het Boshuis\, Kerkweg 2\, Klarenbeek\, 7382 BN
END:VEVENT
BEGIN:VEVENT
DTSTART;TZID=Europe/Amsterdam:20200222T123000
DTEND;TZID=Europe/Amsterdam:20200222T160000
DTSTAMP:20260419T231055
CREATED:20191123T170248Z
LAST-MODIFIED:20191123T170248Z
UID:29799-1582374600-1582387200@www.muziekverenigingklarenbeek.nl
SUMMARY:Harmonieorkest - Carnavalsoptocht
DESCRIPTION:
URL:https://www.muziekverenigingklarenbeek.nl/evenement/harmonieorkest-carnavalsoptocht/
LOCATION:Klarenbeek
END:VEVENT
BEGIN:VEVENT
DTSTART;TZID=Europe/Amsterdam:20200125T190000
DTEND;TZID=Europe/Amsterdam:20200125T230000
DTSTAMP:20260419T231055
CREATED:20191123T170122Z
LAST-MODIFIED:20191123T170122Z
UID:29796-1579978800-1579993200@www.muziekverenigingklarenbeek.nl
SUMMARY:Harmonieorkest/kinderkoor - Winterwandeling Klarenbeek
DESCRIPTION:
URL:https://www.muziekverenigingklarenbeek.nl/evenement/harmonieorkest-kinderkoor-winterwandeling-klarenbeek/
LOCATION:Klarenbeek
END:VEVENT
BEGIN:VEVENT
DTSTART;TZID=Europe/Amsterdam:20191215T183000
DTEND;TZID=Europe/Amsterdam:20191215T193000
DTSTAMP:20260419T231055
CREATED:20190821T120834Z
LAST-MODIFIED:20190821T121318Z
UID:29671-1576434600-1576438200@www.muziekverenigingklarenbeek.nl
SUMMARY:Harmonieorkest - Kerstsamenzang
DESCRIPTION:
URL:https://www.muziekverenigingklarenbeek.nl/evenement/kerstsamenzang-harmonieorkest/
LOCATION:Het Boshuis\, Kerkweg 2\, Klarenbeek\, 7382 BN
END:VEVENT
BEGIN:VEVENT
DTSTART;TZID=Europe/Amsterdam:20191211T173000
DTEND;TZID=Europe/Amsterdam:20191211T183000
DTSTAMP:20260419T231055
CREATED:20191123T151535Z
LAST-MODIFIED:20191123T151535Z
UID:29793-1576085400-1576089000@www.muziekverenigingklarenbeek.nl
SUMMARY:Kinderkoor - Ouderendiner Pijnappel
DESCRIPTION:
URL:https://www.muziekverenigingklarenbeek.nl/evenement/kinderkoor-ouderendiner-pijnappel/
LOCATION:Restaurant Pijnappel
END:VEVENT
BEGIN:VEVENT
DTSTART;TZID=Europe/Amsterdam:20191116T130000
DTEND;TZID=Europe/Amsterdam:20191116T140000
DTSTAMP:20260419T231055
CREATED:20190227T175353Z
LAST-MODIFIED:20190227T175353Z
UID:29444-1573909200-1573912800@www.muziekverenigingklarenbeek.nl
SUMMARY:Harmonieorkest - Serenade intocht Sinterklaas
DESCRIPTION:
URL:https://www.muziekverenigingklarenbeek.nl/evenement/harmonieorkest-serenade-intocht-sinterklaas/
LOCATION:Multifunctioneel Centrum Klarenbeek\, Bosweg 14\, Klarenbeek\, 7382 CC
END:VEVENT
BEGIN:VEVENT
DTSTART;TZID=Europe/Amsterdam:20191102T200000
DTEND;TZID=Europe/Amsterdam:20191102T230000
DTSTAMP:20260419T231055
CREATED:20190227T175243Z
LAST-MODIFIED:20190830T173805Z
UID:29442-1572724800-1572735600@www.muziekverenigingklarenbeek.nl
SUMMARY:MVK + oud leden - Reünieconcert
DESCRIPTION:Ooit in het orkest gespeeld van Muziekvereniging Klarenbeek/Amicitia/Wilhelmina? Dan zijn we op zoek naar jou; tijd om bij te praten en samen muziek te maken! Dit najaar zal MVK een reünieconcert organiseren samen met oud leden van de vereniging. Er vinden voorafgaand aan het concert 3 repetities plaats op 15\, 22\, en 29 oktober. Het concert is op zaterdagavond 2 november in het MFC in Klarenbeek. Vind je het leuk om hier aan mee te doen?  Geef je dan op voor 8 september via deze link: aanmelden
URL:https://www.muziekverenigingklarenbeek.nl/evenement/mvk-oud-leden-reunieconcert/
LOCATION:Multifunctioneel Centrum Klarenbeek\, Bosweg 14\, Klarenbeek\, 7382 CC
END:VEVENT
BEGIN:VEVENT
DTSTART;TZID=Europe/Amsterdam:20190712T193000
DTEND;TZID=Europe/Amsterdam:20190712T200000
DTSTAMP:20260419T231055
CREATED:20190227T174920Z
LAST-MODIFIED:20190227T174920Z
UID:29440-1562959800-1562961600@www.muziekverenigingklarenbeek.nl
SUMMARY:Harmonieorkest - Serenade intocht wandelvierdaagse Klarenbeek
DESCRIPTION:
URL:https://www.muziekverenigingklarenbeek.nl/evenement/harmonieorkest-serenade-intocht-wandelvierdaagse-klarenbeek/
LOCATION:Multifunctioneel Centrum Klarenbeek\, Bosweg 14\, Klarenbeek\, 7382 CC
END:VEVENT
BEGIN:VEVENT
DTSTART;TZID=Europe/Amsterdam:20190705T193000
DTEND;TZID=Europe/Amsterdam:20190705T210000
DTSTAMP:20260419T231055
CREATED:20190227T174726Z
LAST-MODIFIED:20190227T174726Z
UID:29438-1562355000-1562360400@www.muziekverenigingklarenbeek.nl
SUMMARY:Harmonieorkest - Zomerconcert fietsvierdaagse Oosterhuizen
DESCRIPTION:
URL:https://www.muziekverenigingklarenbeek.nl/evenement/harmonieorkest-zomerconcert-fietsvierdaagse-oosterhuizen/
END:VEVENT
BEGIN:VEVENT
DTSTART;TZID=Europe/Amsterdam:20190622T200000
DTEND;TZID=Europe/Amsterdam:20190622T230000
DTSTAMP:20260419T231055
CREATED:20190227T174500Z
LAST-MODIFIED:20190505T151603Z
UID:29434-1561233600-1561244400@www.muziekverenigingklarenbeek.nl
SUMMARY:MVK - Jubileumconcert
DESCRIPTION:Muziekvereniging Klarenbeek met Charly Luske \nRhythm of the Proms \nMuziekvereniging Klarenbeek (MVK) bestaat in 2019 maar liefst 111 jaar en viert dit groots met het “Rhythm of the Proms” concert in schouwburg Orpheus. Een spetterende muzikale avond waarin pop en klassiek op diverse manieren samenkomen. Een avond vol muziek\, zang en dans\, voor jong en oud! \nVeelzijdige avond met primeur en speciale gast \nHet belooft een veelzijdige avond te worden met een zeer gevarieerd programma. Speciaal voor deze avond wordt het voltallige harmonieorkest\, bestaande uit ruim 60 muzikanten\, op diverse manieren aangevuld. Wat kun je allemaal verwachten? \nAan het orkest wordt een combo toegevoegd\, bestaande uit een gitarist\, basgitarist\, toetsenist en drummer. Er wordt medewerking verleend door een dansgroep van Studio DanZo\, de professionele dansschool uit Deventer. Ook het kinderkoor van MVK zal zijn opwachting maken en uiteraard zullen ook solisten deze avond niet ontbreken. En voor het eerst in haar 111-jarig bestaan zal MVK optreden samen met een DJ. Deze primeur mag je niet missen! \nSpeciale gast deze avond is Charly Luske\, bekend van TV en diverse musicals. Hij zingt deze avond meerdere nummers\, natuurlijk ook een aantal samen met ons orkest! \nEen tipje van de sluier… \nJe gaat 22 juni genieten van muziek uit diverse genres. Wat te denken van de meeslepende filmmuziek uit “Once Upon A Time In The West” of een medley van de bij iedereen bekende Engelse rockgroep “Queen”. Ook hoor je muziek uit de bekende musical “West Side Story” en een medley van “Deep Purple”. Voor het optreden met de DJ heeft MVK speciaal voor deze avond een nummer van de wereldberoemde DJ Avicii laten arrangeren. \nKortom een avond die je niet wilt missen!
URL:https://www.muziekverenigingklarenbeek.nl/evenement/mvk-jubileumconcert/
LOCATION:Theater Orpheus\, Churchillplein 1\, Apeldoorn\, 7314 BZ
ATTACH;FMTTYPE=image/jpeg:https://www.muziekverenigingklarenbeek.nl/wp-content/uploads/2019/04/Banner-fb.jpg
END:VEVENT
BEGIN:VEVENT
DTSTART;TZID=Europe/Amsterdam:20190524T190000
DTEND;TZID=Europe/Amsterdam:20190524T203000
DTSTAMP:20260419T231055
CREATED:20190402T170829Z
LAST-MODIFIED:20190406T120703Z
UID:29451-1558724400-1558729800@www.muziekverenigingklarenbeek.nl
SUMMARY:Interactieve musical 'Wieger wordt wakker'
DESCRIPTION:‘Wieger wordt wakker’ is een interactieve musical uitgevoerd door het opleidingsorkest en kinderkoor van muziekvereniging Klarenbeek. In de musical ‘Wieger Wordt Wakker” wordt een muzikaal verhaal vertelt over een jongen die het instrument van zijn dromen gaat spelen. Het publiek maakt op een interactieve manier kennis met (blaas)muziek en spelen in een orkest of zingen in een koor. De musical is tevens de afsluiter van de muzieklessen op basisscholen\, waarin de basisschoolkinderen kunnen presenteren wat ze hebben geleerd. \nNa afloop van de musical is er voor alle kinderen gelegenheid om een instrument uit te proberen. Voor diegene die graag verder willen met het leren bespelen van een instrument is het mogelijk om zich in te schrijven voor de blazersklas die in september 2019 zal starten.
URL:https://www.muziekverenigingklarenbeek.nl/evenement/interactieve-musical-wieger-wordt-wakker/
LOCATION:Multifunctioneel Centrum Klarenbeek\, Bosweg 14\, Klarenbeek\, 7382 CC
ATTACH;FMTTYPE=image/jpeg:https://www.muziekverenigingklarenbeek.nl/wp-content/uploads/2019/04/wieger-wordt-wakker.jpg
END:VEVENT
BEGIN:VEVENT
DTSTART;TZID=Europe/Amsterdam:20190504T193000
DTEND;TZID=Europe/Amsterdam:20190504T203000
DTSTAMP:20260419T231055
CREATED:20181117T140626Z
LAST-MODIFIED:20181117T140626Z
UID:29378-1556998200-1557001800@www.muziekverenigingklarenbeek.nl
SUMMARY:Dodenherdenking - Harmonieorkest
DESCRIPTION:
URL:https://www.muziekverenigingklarenbeek.nl/evenement/dodenherdenking-harmonieorkest/
LOCATION:Oranjepark Apeldoorn\, Apeldoorn\, 7311 AB
END:VEVENT
BEGIN:VEVENT
DTSTART;TZID=Europe/Amsterdam:20190422T100000
DTEND;TZID=Europe/Amsterdam:20190422T110000
DTSTAMP:20260419T231055
CREATED:20181117T140522Z
LAST-MODIFIED:20181117T140522Z
UID:29375-1555927200-1555930800@www.muziekverenigingklarenbeek.nl
SUMMARY:Paaskerkdienst - Harmonieorkest
DESCRIPTION:
URL:https://www.muziekverenigingklarenbeek.nl/evenement/paaskerkdienst-harmonieorkest/
LOCATION:Verpleeghuis Markenhof\, Kuiltjesweg 1\, Beekbergen\, 7361 TC
END:VEVENT
BEGIN:VEVENT
DTSTART;TZID=Europe/Amsterdam:20190302T123000
DTEND;TZID=Europe/Amsterdam:20190302T160000
DTSTAMP:20260419T231055
CREATED:20180816T170206Z
LAST-MODIFIED:20190212T180521Z
UID:29290-1551529800-1551542400@www.muziekverenigingklarenbeek.nl
SUMMARY:Carnavalsoptocht - Harmonieorkest
DESCRIPTION:
URL:https://www.muziekverenigingklarenbeek.nl/evenement/carnavalsoptocht-harmonieorkest/
LOCATION:Klarenbeek
END:VEVENT
BEGIN:VEVENT
DTSTART;TZID=Europe/Amsterdam:20190125T180000
DTEND;TZID=Europe/Amsterdam:20190126T120000
DTSTAMP:20260419T231055
CREATED:20181214T163933Z
LAST-MODIFIED:20181214T163933Z
UID:29388-1548439200-1548504000@www.muziekverenigingklarenbeek.nl
SUMMARY:Worstenactie
DESCRIPTION:
URL:https://www.muziekverenigingklarenbeek.nl/evenement/worstenactie/
LOCATION:Klarenbeek
END:VEVENT
BEGIN:VEVENT
DTSTART;TZID=Europe/Amsterdam:20190120T140000
DTEND;TZID=Europe/Amsterdam:20190120T160000
DTSTAMP:20260419T231055
CREATED:20181117T140031Z
LAST-MODIFIED:20190102T173955Z
UID:29372-1547992800-1548000000@www.muziekverenigingklarenbeek.nl
SUMMARY:Nieuwjaarsconcert - Opleidingsorkest
DESCRIPTION:Concert gegeven door de opleidingsorkesten van Muziekvereniging Klarenbeek\, OLTO uit Loenen en La Fraternité uit Rhienderen. Voor het 3e jaar op rij wordt dit concert georganiseerd\, en ditmaal door Muziekvereniging Klarenbeek. \nAlle orkesten zullen hun eigen muziekstukken spelen\, daarnaast worden er 3 stukken samen gespeeld. \n 
URL:https://www.muziekverenigingklarenbeek.nl/evenement/nieuwjaarsconcert-opleidingsorkest/
LOCATION:Multifunctioneel Centrum Klarenbeek\, Bosweg 14\, Klarenbeek\, 7382 CC
END:VEVENT
BEGIN:VEVENT
DTSTART;TZID=Europe/Amsterdam:20190113T140000
DTEND;TZID=Europe/Amsterdam:20190113T160000
DTSTAMP:20260419T231055
CREATED:20181117T135314Z
LAST-MODIFIED:20181214T152618Z
UID:29367-1547388000-1547395200@www.muziekverenigingklarenbeek.nl
SUMMARY:Nieuwjaarsconcert - Harmonieorkest samen met muziekvereniging Semper-Crescendo uit Oldenzaal
DESCRIPTION:In Oldenzaal zal het harmonieorkest van Muziekvereniging Klarenbeek een nieuwjaarsconcert geven samen met Harmonieorkest Semper Crescendo uit Oldenzaal en zangeres Karin Hertsenberg. \n 
URL:https://www.muziekverenigingklarenbeek.nl/evenement/nieuwjaarsconcert-harmonieorkest-samen-met-muziekvereniging-semper-crescendo-uit-oldenzaal/
LOCATION:Mariakerk\, Mariastraat 17\, Oldenzaal\, 7574 ZM
END:VEVENT
BEGIN:VEVENT
DTSTART;TZID=Europe/Amsterdam:20181216T190000
DTEND;TZID=Europe/Amsterdam:20181216T190000
DTSTAMP:20260419T231055
CREATED:20181117T141850Z
LAST-MODIFIED:20181117T141850Z
UID:29380-1544986800-1544986800@www.muziekverenigingklarenbeek.nl
SUMMARY:Kerstconcert in Voorst - Kinderkoor
DESCRIPTION:Al 69 keer is er een kerstconcert geweest met medewerking van de fanfare en een groot koor\, gevormd uit de koren ‘Zanglust Empe’ (dameskoor)\, ‘Zangkoor Voorst’ en ‘Zingt den Heer’. Traditie is mooi\, maar afwisseling en verjonging heel belangrijk\, daarom is ditmaal het ‘Kinderkoor Klarenbeek’ o.l.v. Alette van den Brul uitgenodigd. Hierbij zijn nog heel jonge kinderen. Deze kinderen zullen ons het licht in de kerk brengen. \nHet groot koor onder leiding van Maarten Romkes\, samen met de fanfare onder leiding van Alfred Willering\, laten ons genieten van hun gezamenlijk optreden\, maar ook treden ze ieder solistisch op.\nGert Oldenbeuving laat horen\, wat voor prachtig orgel we hebben\, samen met Justin Plomp op zijn trompet. Het koor wordt ondersteund door pianobegeleiding van Roel Praas.\nEen zeer gevarieerd programma ligt voor ons\, waarin we niet alleen mogen luisteren naar wat er wordt geboden\, maar ook kunnen we zelf meezingen. \nHet kerstconcert is op 16 december 2018 en begint om 19.00 uur in verband met het kinderkoor. De deur van de kerk is open om 18.30 uur. De entree is gratis\, wel kunt u bij de uitgang van de kerk een vrijwillige bijdrage geven\, zodat we volgend jaar ons 70ste concert kunnen organiseren. \nIn het Dorpshuis genieten we na met een glaasje glühwein.
URL:https://www.muziekverenigingklarenbeek.nl/evenement/kerstconcert-in-voorst-kinderkoor/
LOCATION:Dorpskerk Voorst\, Schoolstraat 16\, Voorst\, 7383CG
END:VEVENT
BEGIN:VEVENT
DTSTART;TZID=Europe/Amsterdam:20181216T183000
DTEND;TZID=Europe/Amsterdam:20181216T193000
DTSTAMP:20260419T231055
CREATED:20180816T170041Z
LAST-MODIFIED:20180927T084346Z
UID:29287-1544985000-1544988600@www.muziekverenigingklarenbeek.nl
SUMMARY:Kerstsamenzang - Opleidingsorkest & harmonieorkest
DESCRIPTION:
URL:https://www.muziekverenigingklarenbeek.nl/evenement/kerstsamenzang-opleidingsorkest-harmonieorkest/
LOCATION:Het Boshuis\, Kerkweg 2\, Klarenbeek\, 7382 BN
END:VEVENT
BEGIN:VEVENT
DTSTART;TZID=Europe/Amsterdam:20181117T130000
DTEND;TZID=Europe/Amsterdam:20181117T140000
DTSTAMP:20260419T231055
CREATED:20180816T165759Z
LAST-MODIFIED:20180816T165759Z
UID:29284-1542459600-1542463200@www.muziekverenigingklarenbeek.nl
SUMMARY:Sinterklaasintocht - Harmonieorkest
DESCRIPTION:
URL:https://www.muziekverenigingklarenbeek.nl/evenement/sinterklaasintocht-harmonieorkest/
LOCATION:Dokter Blok Plantsoen\, Klarenbeek\, 7382 CB
END:VEVENT
BEGIN:VEVENT
DTSTART;TZID=Europe/Amsterdam:20181007T150000
DTEND;TZID=Europe/Amsterdam:20181007T170000
DTSTAMP:20260419T231055
CREATED:20180816T165648Z
LAST-MODIFIED:20180927T080556Z
UID:29281-1538924400-1538931600@www.muziekverenigingklarenbeek.nl
SUMMARY:Concert met koor Novum Canticum - Harmonieorkest
DESCRIPTION:
URL:https://www.muziekverenigingklarenbeek.nl/evenement/concert-met-koor-novum-canticum-harmonieorkest/
LOCATION:Julianakerk Apeldoorn\, Deventerstraat 91\, Apeldoorn\, 7322 JL
END:VEVENT
BEGIN:VEVENT
DTSTART;TZID=Europe/Amsterdam:20180817T190000
DTEND;TZID=Europe/Amsterdam:20180817T200000
DTSTAMP:20260419T231055
CREATED:20180414T131935Z
LAST-MODIFIED:20180816T165048Z
UID:29018-1534532400-1534536000@www.muziekverenigingklarenbeek.nl
SUMMARY:Opening Klarenbeekse Kermis
DESCRIPTION:
URL:https://www.muziekverenigingklarenbeek.nl/evenement/opening-klarenbeekse-kermis/
LOCATION:Kermisterrein Broekstraat\, Broekstraat\, Klarenbeek
END:VEVENT
BEGIN:VEVENT
DTSTART;TZID=Europe/Amsterdam:20180706T190000
DTEND;TZID=Europe/Amsterdam:20180706T200000
DTSTAMP:20260419T231055
CREATED:20180425T171702Z
LAST-MODIFIED:20180425T175621Z
UID:29161-1530903600-1530907200@www.muziekverenigingklarenbeek.nl
SUMMARY:Fietsvierdaagse Oosterhuizen - Harmonieorkest
DESCRIPTION:
URL:https://www.muziekverenigingklarenbeek.nl/evenement/fietsvierdaagse-oosterhuizen-harmonie-orkest/
LOCATION:Oosterhuizen
END:VEVENT
BEGIN:VEVENT
DTSTART;TZID=Europe/Amsterdam:20180705T190000
DTEND;TZID=Europe/Amsterdam:20180705T200000
DTSTAMP:20260419T231055
CREATED:20180425T171554Z
LAST-MODIFIED:20180425T175638Z
UID:29159-1530817200-1530820800@www.muziekverenigingklarenbeek.nl
SUMMARY:Wandelvierdaagse Klarenbeek - Harmonieorkest
DESCRIPTION:
URL:https://www.muziekverenigingklarenbeek.nl/evenement/wandelvierdaagse-klarenbeek-harmonie-orkest/
LOCATION:Multifunctioneel Centrum Klarenbeek\, Bosweg 14\, Klarenbeek\, 7382 CC
END:VEVENT
END:VCALENDAR