BEGIN:VCALENDAR
VERSION:2.0
PRODID:-//Muziekvereniging Klarenbeek - ECPv6.15.20//NONSGML v1.0//EN
CALSCALE:GREGORIAN
METHOD:PUBLISH
X-WR-CALNAME:Muziekvereniging Klarenbeek
X-ORIGINAL-URL:https://www.muziekverenigingklarenbeek.nl
X-WR-CALDESC:Evenementen voor Muziekvereniging Klarenbeek
REFRESH-INTERVAL;VALUE=DURATION:PT1H
X-Robots-Tag:noindex
X-PUBLISHED-TTL:PT1H
BEGIN:VTIMEZONE
TZID:Europe/Amsterdam
BEGIN:DAYLIGHT
TZOFFSETFROM:+0100
TZOFFSETTO:+0200
TZNAME:CEST
DTSTART:20190331T010000
END:DAYLIGHT
BEGIN:STANDARD
TZOFFSETFROM:+0200
TZOFFSETTO:+0100
TZNAME:CET
DTSTART:20191027T010000
END:STANDARD
BEGIN:DAYLIGHT
TZOFFSETFROM:+0100
TZOFFSETTO:+0200
TZNAME:CEST
DTSTART:20200329T010000
END:DAYLIGHT
BEGIN:STANDARD
TZOFFSETFROM:+0200
TZOFFSETTO:+0100
TZNAME:CET
DTSTART:20201025T010000
END:STANDARD
BEGIN:DAYLIGHT
TZOFFSETFROM:+0100
TZOFFSETTO:+0200
TZNAME:CEST
DTSTART:20210328T010000
END:DAYLIGHT
BEGIN:STANDARD
TZOFFSETFROM:+0200
TZOFFSETTO:+0100
TZNAME:CET
DTSTART:20211031T010000
END:STANDARD
BEGIN:DAYLIGHT
TZOFFSETFROM:+0100
TZOFFSETTO:+0200
TZNAME:CEST
DTSTART:20220327T010000
END:DAYLIGHT
BEGIN:STANDARD
TZOFFSETFROM:+0200
TZOFFSETTO:+0100
TZNAME:CET
DTSTART:20221030T010000
END:STANDARD
BEGIN:DAYLIGHT
TZOFFSETFROM:+0100
TZOFFSETTO:+0200
TZNAME:CEST
DTSTART:20230326T010000
END:DAYLIGHT
BEGIN:STANDARD
TZOFFSETFROM:+0200
TZOFFSETTO:+0100
TZNAME:CET
DTSTART:20231029T010000
END:STANDARD
BEGIN:DAYLIGHT
TZOFFSETFROM:+0100
TZOFFSETTO:+0200
TZNAME:CEST
DTSTART:20240331T010000
END:DAYLIGHT
BEGIN:STANDARD
TZOFFSETFROM:+0200
TZOFFSETTO:+0100
TZNAME:CET
DTSTART:20241027T010000
END:STANDARD
BEGIN:DAYLIGHT
TZOFFSETFROM:+0100
TZOFFSETTO:+0200
TZNAME:CEST
DTSTART:20250330T010000
END:DAYLIGHT
BEGIN:STANDARD
TZOFFSETFROM:+0200
TZOFFSETTO:+0100
TZNAME:CET
DTSTART:20251026T010000
END:STANDARD
END:VTIMEZONE
BEGIN:VEVENT
DTSTART;TZID=Europe/Amsterdam:20240531T190000
DTEND;TZID=Europe/Amsterdam:20240531T203000
DTSTAMP:20260419T213002
CREATED:20240418T193436Z
LAST-MODIFIED:20240418T193436Z
UID:30170-1717182000-1717187400@www.muziekverenigingklarenbeek.nl
SUMMARY:Wieger wordt wakker – Leerlingen basisschool de Kopermolen & opleidingsorkest
DESCRIPTION:Eindpresentatie van het project Wieger wordt wakker\, waarbij de leerlingen van groep 5&6 van de Kopermolen laten horen wat ze hebben geleerd in de lessen van de afgelopen maanden.
URL:https://www.muziekverenigingklarenbeek.nl/evenement/wieger-wordt-wakker-leerlingen-basisschool-de-kopermolen-opleidingsorkest/
LOCATION:Multifunctioneel Centrum Klarenbeek\, Bosweg 14\, Klarenbeek\, 7382 CC
END:VEVENT
BEGIN:VEVENT
DTSTART;TZID=Europe/Amsterdam:20240504T190000
DTEND;TZID=Europe/Amsterdam:20240504T203000
DTSTAMP:20260419T213002
CREATED:20231230T134052Z
LAST-MODIFIED:20231230T134052Z
UID:30147-1714849200-1714854600@www.muziekverenigingklarenbeek.nl
SUMMARY:Dodenherdenking Oranjepark Apeldoorn – Harmonieorkest
DESCRIPTION:
URL:https://www.muziekverenigingklarenbeek.nl/evenement/dodenherdenking-oranjepark-apeldoorn-harmonieorkest/
LOCATION:Oranjepark Apeldoorn\, Apeldoorn\, 7311 AB
END:VEVENT
BEGIN:VEVENT
DTSTART;TZID=Europe/Amsterdam:20240406T200000
DTEND;TZID=Europe/Amsterdam:20240406T220000
DTSTAMP:20260419T213002
CREATED:20231230T134322Z
LAST-MODIFIED:20231230T134322Z
UID:30151-1712433600-1712440800@www.muziekverenigingklarenbeek.nl
SUMMARY:Concert met Brassband Apeldoorn – Harmonieorkest
DESCRIPTION:
URL:https://www.muziekverenigingklarenbeek.nl/evenement/concert-met-brassband-apeldoorn-harmonieorkest/
LOCATION:Het Bolwerk\, Ravelijn 55\, Apeldoorn\, 7325 NT
END:VEVENT
BEGIN:VEVENT
DTSTART;TZID=Europe/Amsterdam:20240210T130000
DTEND;TZID=Europe/Amsterdam:20240210T160000
DTSTAMP:20260419T213002
CREATED:20231230T133611Z
LAST-MODIFIED:20231230T133611Z
UID:30142-1707570000-1707580800@www.muziekverenigingklarenbeek.nl
SUMMARY:Carnavalsoptocht Klarenbeek – Harmonieorkest
DESCRIPTION:
URL:https://www.muziekverenigingklarenbeek.nl/evenement/carnavalsoptocht-klarenbeek-harmonieorkest/
END:VEVENT
BEGIN:VEVENT
DTSTART;TZID=Europe/Amsterdam:20240127T184500
DTEND;TZID=Europe/Amsterdam:20240127T220000
DTSTAMP:20260419T213002
CREATED:20230927T175404Z
LAST-MODIFIED:20231230T133438Z
UID:30132-1706381100-1706392800@www.muziekverenigingklarenbeek.nl
SUMMARY:Winterwandeling Klarenbeek – Harmonieorkest
DESCRIPTION:Kijk voor meer informatie op: https://www.facebook.com/WinterwandelingKlarenbeek/
URL:https://www.muziekverenigingklarenbeek.nl/evenement/winterwandeling-klarenbeek-harmonieorkest/
LOCATION:Het Boshuis\, Kerkweg 2\, Klarenbeek\, 7382 BN
END:VEVENT
BEGIN:VEVENT
DTSTART;TZID=Europe/Amsterdam:20240126T180000
DTEND;TZID=Europe/Amsterdam:20240127T120000
DTSTAMP:20260419T213002
CREATED:20230927T175259Z
LAST-MODIFIED:20230927T175259Z
UID:30130-1706292000-1706356800@www.muziekverenigingklarenbeek.nl
SUMMARY:Worstenactie
DESCRIPTION:
URL:https://www.muziekverenigingklarenbeek.nl/evenement/worstenactie-3/
END:VEVENT
BEGIN:VEVENT
DTSTART;TZID=Europe/Amsterdam:20231217T183000
DTEND;TZID=Europe/Amsterdam:20231217T200000
DTSTAMP:20260419T213002
CREATED:20230927T175142Z
LAST-MODIFIED:20230927T175142Z
UID:30128-1702837800-1702843200@www.muziekverenigingklarenbeek.nl
SUMMARY:Kerstsamenzang – Harmonieorkest en opleidingsorkest
DESCRIPTION:
URL:https://www.muziekverenigingklarenbeek.nl/evenement/kerstsamenzang-harmonieorkest-en-opleidingsorkest/
LOCATION:Het Boshuis\, Kerkweg 2\, Klarenbeek\, 7382 BN
END:VEVENT
BEGIN:VEVENT
DTSTART;TZID=Europe/Amsterdam:20231029T140000
DTEND;TZID=Europe/Amsterdam:20231029T160000
DTSTAMP:20260419T213002
CREATED:20230524T183745Z
LAST-MODIFIED:20230927T175004Z
UID:30088-1698588000-1698595200@www.muziekverenigingklarenbeek.nl
SUMMARY:Concert i.s.m. Fanfare Vaassen – Harmonieorkest
DESCRIPTION:
URL:https://www.muziekverenigingklarenbeek.nl/evenement/concert-i-s-m-fanfare-vaassen-harmonieorkest/
LOCATION:Dorpscentrum de Brink\, Hoofdweg 5\, Loenen\, 7371 AC
END:VEVENT
BEGIN:VEVENT
DTSTART;TZID=Europe/Amsterdam:20230909T140000
DTEND;TZID=Europe/Amsterdam:20230909T160000
DTSTAMP:20260419T213002
CREATED:20230524T183427Z
LAST-MODIFIED:20230816T183835Z
UID:30086-1694268000-1694275200@www.muziekverenigingklarenbeek.nl
SUMMARY:Zomerconcert i.c.m. Open Monumentendag – Gehele muziekvereniging
DESCRIPTION:Op zaterdagmiddag 9 september zal het Harmonie- \, aspiranten- en opleidingsorkest een zomerconcert verzorgen op het plein tussen Molen de Hoop en de Olde Bakkerije in Klarenbeek. Dit is op Open Monumentendag\, de molen is deze dag dus ook te bezoeken! \nhttp://www.oldebakkerije.nl/ \nHome \n\nhttps://shop.dehoopklarenbeek.nl/ \n 
URL:https://www.muziekverenigingklarenbeek.nl/evenement/zomerconcert-i-c-m-open-monumentendag-gehele-muziekvereniging/
LOCATION:Molen de Hoop\, Molenweg 4a\, Klarenbeek\, 7382BE
END:VEVENT
BEGIN:VEVENT
DTSTART;TZID=Europe/Amsterdam:20230818T183000
DTEND;TZID=Europe/Amsterdam:20230818T190000
DTSTAMP:20260419T213002
CREATED:20230524T183220Z
LAST-MODIFIED:20230524T183243Z
UID:30083-1692383400-1692385200@www.muziekverenigingklarenbeek.nl
SUMMARY:Openen Klarenbeekse Kermis – Harmonieorkest
DESCRIPTION:
URL:https://www.muziekverenigingklarenbeek.nl/evenement/openen-klarenbeekse-kermis-harmonieorkest/
LOCATION:Kermisterrein Broekstraat\, Broekstraat\, Klarenbeek
END:VEVENT
BEGIN:VEVENT
DTSTART;TZID=Europe/Amsterdam:20230707T190000
DTEND;TZID=Europe/Amsterdam:20230707T210000
DTSTAMP:20260419T213002
CREATED:20220901T125800Z
LAST-MODIFIED:20230524T183109Z
UID:30021-1688756400-1688763600@www.muziekverenigingklarenbeek.nl
SUMMARY:Muzikale medewerking fiets4daagse Oosterhuizen – Harmonieorkest
DESCRIPTION:
URL:https://www.muziekverenigingklarenbeek.nl/evenement/zomerconcert-fiets4daagse-oosterhuizen-harmonieorkest/
LOCATION:Oosterhuizen
END:VEVENT
BEGIN:VEVENT
DTSTART;TZID=Europe/Amsterdam:20230616T190000
DTEND;TZID=Europe/Amsterdam:20230616T200000
DTSTAMP:20260419T213002
CREATED:20230524T183006Z
LAST-MODIFIED:20230524T183006Z
UID:30080-1686942000-1686945600@www.muziekverenigingklarenbeek.nl
SUMMARY:Binnenhalen wandel4daagse Klarenbeek – Harmonieorkest
DESCRIPTION:Zie voor meer informatie over de 4daagse: https://www.scklarenbeek.nl/428/wandel4daagse/.
URL:https://www.muziekverenigingklarenbeek.nl/evenement/binnenhalen-wandel4daagse-klarenbeek-harmonieorkest/
LOCATION:Multifunctioneel Centrum Klarenbeek\, Bosweg 14\, Klarenbeek\, 7382 CC
END:VEVENT
BEGIN:VEVENT
DTSTART;TZID=Europe/Amsterdam:20230504T190000
DTEND;TZID=Europe/Amsterdam:20230504T203000
DTSTAMP:20260419T213002
CREATED:20220901T125644Z
LAST-MODIFIED:20220901T125644Z
UID:30019-1683226800-1683232200@www.muziekverenigingklarenbeek.nl
SUMMARY:Dodenherdenking Oranjepark – Harmonieorkest
DESCRIPTION:
URL:https://www.muziekverenigingklarenbeek.nl/evenement/dodenherdenking-oranjepark-harmonieorkest/
LOCATION:Oranjepark Apeldoorn\, Apeldoorn\, 7311 AB
END:VEVENT
BEGIN:VEVENT
DTSTART;VALUE=DATE:20230401
DTEND;VALUE=DATE:20230402
DTSTAMP:20260419T213002
CREATED:20220901T125022Z
LAST-MODIFIED:20230331T190848Z
UID:30011-1680307200-1680393599@www.muziekverenigingklarenbeek.nl
SUMMARY:Open Nederlandse Harmonie Kampioenschappen – Harmonieorkest
DESCRIPTION:MVK komt uit in de 3e divisie. Afhankelijk van de loting zullen wij spelen om 14.30 of 14.55. \nZie voor verdere informatie www.onhk.org.
URL:https://www.muziekverenigingklarenbeek.nl/evenement/open-nederlandse-harmonie-kampioenschappen-harmonieorkest/
END:VEVENT
BEGIN:VEVENT
DTSTART;TZID=Europe/Amsterdam:20230325T200000
DTEND;TZID=Europe/Amsterdam:20230325T220000
DTSTAMP:20260419T213002
CREATED:20230308T200013Z
LAST-MODIFIED:20230308T200050Z
UID:30070-1679774400-1679781600@www.muziekverenigingklarenbeek.nl
SUMMARY:Dubbelconcert met Harmonie Koningin Wilhelmina Wamel – Harmonieorkest
DESCRIPTION:Op zaterdagavond 25 maart verzorgen we samen met Harmonie Koningin Wilhelmina Wamel een dubbelconcert in de Martinuskerk in Zaltbommel. Met een gevarieerd programma door beide verenigingen belooft het een mooie\, muzikale avond te worden. Wees welkom!
URL:https://www.muziekverenigingklarenbeek.nl/evenement/harmonieorkest-dubbelconcert-met-harmonie-koningin-wilhelmina-wamel/
LOCATION:Martinuskerk Zaltbommel\, Oliestraat 26\, Zaltbommel\, 5301BB
END:VEVENT
BEGIN:VEVENT
DTSTART;TZID=Europe/Amsterdam:20230127T170000
DTEND;TZID=Europe/Amsterdam:20230128T170000
DTSTAMP:20260419T213002
CREATED:20220901T125910Z
LAST-MODIFIED:20220901T125910Z
UID:30023-1674838800-1674925200@www.muziekverenigingklarenbeek.nl
SUMMARY:Worstenactie
DESCRIPTION:
URL:https://www.muziekverenigingklarenbeek.nl/evenement/worstenactie-2/
END:VEVENT
BEGIN:VEVENT
DTSTART;TZID=Europe/Amsterdam:20221225T100000
DTEND;TZID=Europe/Amsterdam:20221225T110000
DTSTAMP:20260419T213002
CREATED:20220901T124758Z
LAST-MODIFIED:20220901T124758Z
UID:30008-1671962400-1671966000@www.muziekverenigingklarenbeek.nl
SUMMARY:Begeleiding kerkdienst – Harmonieorkest
DESCRIPTION:
URL:https://www.muziekverenigingklarenbeek.nl/evenement/begeleiding-kerkdienst-harmonieorkest/
LOCATION:Protestantse kerk Klarenbeek\, Woudweg 121\, Klarenbeek\, 7381 BB
END:VEVENT
BEGIN:VEVENT
DTSTART;TZID=Europe/Amsterdam:20221211T183000
DTEND;TZID=Europe/Amsterdam:20221211T200000
DTSTAMP:20260419T213002
CREATED:20220901T124506Z
LAST-MODIFIED:20221127T090931Z
UID:30005-1670783400-1670788800@www.muziekverenigingklarenbeek.nl
SUMMARY:Kerstsamenzang & Kerstconcert – Harmonieorkest
DESCRIPTION:
URL:https://www.muziekverenigingklarenbeek.nl/evenement/kerstsamenzang-mini-concert-harmonieorkest/
LOCATION:Het Boshuis\, Kerkweg 2\, Klarenbeek\, 7382 BN
END:VEVENT
BEGIN:VEVENT
DTSTART;TZID=Europe/Amsterdam:20221113T143000
DTEND;TZID=Europe/Amsterdam:20221113T170000
DTSTAMP:20260419T213002
CREATED:20220901T125314Z
LAST-MODIFIED:20220913T111216Z
UID:30016-1668349800-1668358800@www.muziekverenigingklarenbeek.nl
SUMMARY:Concert i.s.m. Big Band Heerde – Harmonieorkest
DESCRIPTION:
URL:https://www.muziekverenigingklarenbeek.nl/evenement/concert-i-s-m-big-band-heerde-harmonieorkest/
LOCATION:Het Boshuis\, Kerkweg 2\, Klarenbeek\, 7382 BN
END:VEVENT
BEGIN:VEVENT
DTSTART;TZID=Europe/Amsterdam:20221022T200000
DTEND;TZID=Europe/Amsterdam:20221022T223000
DTSTAMP:20260419T213002
CREATED:20220901T124403Z
LAST-MODIFIED:20220901T125442Z
UID:30003-1666468800-1666477800@www.muziekverenigingklarenbeek.nl
SUMMARY:Jubileumconcert Popkoor Break-Out – Ensemble
DESCRIPTION:
URL:https://www.muziekverenigingklarenbeek.nl/evenement/jubileumconcert-popkoor-break-out-ensemble/
LOCATION:Het Boshuis\, Kerkweg 2\, Klarenbeek\, 7382 BN
END:VEVENT
BEGIN:VEVENT
DTSTART;TZID=Europe/Amsterdam:20220925T150000
DTEND;TZID=Europe/Amsterdam:20220925T180000
DTSTAMP:20260419T213002
CREATED:20220816T131333Z
LAST-MODIFIED:20220816T131333Z
UID:29999-1664118000-1664128800@www.muziekverenigingklarenbeek.nl
SUMMARY:Muziek Experience Voorst – Harmonieorkest
DESCRIPTION:Muziekexperience Voorst\nOp zondag 25 september 2022 wordt de eerste Muziek Experience Voorst georganiseerd. Tijdens dit evenement\, dat plaats zal vinden in Jachtlust te Twello en duurt van 15.00 – 18.00 uur\, laten de muziekverenigingen uit de gemeente Voorst als ook Younger at Heart van zich horen! \nHonderden musici treden op en laten je kennismaken met extreem verschillende muziekgenres. Denk aan groepen zoals Queen\, Pink Floyd of Deep Purple\, titels zoals Africa\, the best of Bond en Brand new day. Pop\, Rock\, Funk\, Jazz en alles daartussen! En voor de liefhebbers zijn er ook de klassiekers te beluisteren! \nYounger at Heart\nSpeciaal voor de jongeren hebben we een tof programma in samenwerking met Younger at Heart. Muziek in een heel ander jasje waarbij je vooral zélf lekker bezig kunt zijn! Laat je creatieve brein lekker de gang gaan en leef je uit! \nBen jij er bij?!\nVoor iedereen\, door iedereen Wij willen natuurlijk zoveel mogelijk mensen op een hele bijzondere manier van muziek laten genieten! Dus rekenen we ook op jouw komst!\nBen je er bij?! Meld je dan aan via het contactformulier op deze website; https://muziekexperiencevoorst.nl/!
URL:https://www.muziekverenigingklarenbeek.nl/evenement/muziek-experience-voorst-harmonieorkest/
LOCATION:Jachtlust\, Jachtlustplein 7\, Twello\, 7391BW\, Nederland
END:VEVENT
BEGIN:VEVENT
DTSTART;TZID=Europe/Amsterdam:20220819T190000
DTEND;TZID=Europe/Amsterdam:20220819T193000
DTSTAMP:20260419T213002
CREATED:20220816T130434Z
LAST-MODIFIED:20220816T130434Z
UID:29997-1660935600-1660937400@www.muziekverenigingklarenbeek.nl
SUMMARY:Opening Klarenbeekse Kermis – Harmonieorkest
DESCRIPTION:
URL:https://www.muziekverenigingklarenbeek.nl/evenement/opening-klarenbeekse-kermis-harmonieorkest/
LOCATION:Kermisterrein Broekstraat\, Broekstraat\, Klarenbeek
END:VEVENT
BEGIN:VEVENT
DTSTART;TZID=Europe/Amsterdam:20220709T193000
DTEND;TZID=Europe/Amsterdam:20220709T230000
DTSTAMP:20260419T213002
CREATED:20220216T190131Z
LAST-MODIFIED:20220216T190131Z
UID:29963-1657395000-1657407600@www.muziekverenigingklarenbeek.nl
SUMMARY:Harmonieorkest\, opleidingsorkest\, kinderkoor - ''Ik hou van Klarenbeek''
DESCRIPTION:
URL:https://www.muziekverenigingklarenbeek.nl/evenement/harmonieorkest-opleidingsorkest-kinderkoor-ik-hou-van-klarenbeek/
LOCATION:Multifunctioneel Centrum Klarenbeek\, Bosweg 14\, Klarenbeek\, 7382 CC
END:VEVENT
BEGIN:VEVENT
DTSTART;TZID=Europe/Amsterdam:20220504T180000
DTEND;TZID=Europe/Amsterdam:20220504T203000
DTSTAMP:20260419T213002
CREATED:20220216T185842Z
LAST-MODIFIED:20220216T185842Z
UID:29961-1651687200-1651696200@www.muziekverenigingklarenbeek.nl
SUMMARY:Harmonieorkest - Dodenherdenking Oranjepark
DESCRIPTION:
URL:https://www.muziekverenigingklarenbeek.nl/evenement/harmonieorkest-dodenherdenking-oranjepark/
LOCATION:Oranjepark Apeldoorn\, Apeldoorn\, 7311 AB
END:VEVENT
BEGIN:VEVENT
DTSTART;TZID=Europe/Amsterdam:20220402T193000
DTEND;TZID=Europe/Amsterdam:20220402T220000
DTSTAMP:20260419T213002
CREATED:20220216T185606Z
LAST-MODIFIED:20220216T190603Z
UID:29957-1648927800-1648936800@www.muziekverenigingklarenbeek.nl
SUMMARY:Harmonieorkest\, aspiranten/opleidingsorkest\, kinderkoor - Concert
DESCRIPTION:
URL:https://www.muziekverenigingklarenbeek.nl/evenement/harmonieorkest-concert/
LOCATION:Het Boshuis\, Kerkweg 2\, Klarenbeek\, 7382 BN
END:VEVENT
BEGIN:VEVENT
DTSTART;TZID=Europe/Amsterdam:20211212T190000
DTEND;TZID=Europe/Amsterdam:20211212T220000
DTSTAMP:20260419T213002
CREATED:20211001T113921Z
LAST-MODIFIED:20211107T115819Z
UID:29928-1639335600-1639346400@www.muziekverenigingklarenbeek.nl
SUMMARY:Harmonieorkest en opleidingsorkest - Kerstsamenzang/Kerstconcert
DESCRIPTION:
URL:https://www.muziekverenigingklarenbeek.nl/evenement/kerstsamenzang-kerstconcert/
LOCATION:Het Boshuis\, Kerkweg 2\, Klarenbeek\, 7382 BN
END:VEVENT
BEGIN:VEVENT
DTSTART;TZID=Europe/Amsterdam:20211112T190000
DTEND;TZID=Europe/Amsterdam:20211112T210000
DTSTAMP:20260419T213002
CREATED:20211001T114212Z
LAST-MODIFIED:20211001T114254Z
UID:29930-1636743600-1636750800@www.muziekverenigingklarenbeek.nl
SUMMARY:Aspiranten en opleidingsorkest - Voorspeelavond/miniconcert
DESCRIPTION:
URL:https://www.muziekverenigingklarenbeek.nl/evenement/voorspeelavond-miniconcert/
LOCATION:Multifunctioneel Centrum Klarenbeek\, Bosweg 14\, Klarenbeek\, 7382 CC
END:VEVENT
BEGIN:VEVENT
DTSTART;TZID=Europe/Amsterdam:20200307T200000
DTEND;TZID=Europe/Amsterdam:20200307T230000
DTSTAMP:20260419T213002
CREATED:20191216T205028Z
LAST-MODIFIED:20200302T180517Z
UID:29811-1583611200-1583622000@www.muziekverenigingklarenbeek.nl
SUMMARY:Harmonieorkest - Concert samen met Harmonie Orkest Brummen
DESCRIPTION:
URL:https://www.muziekverenigingklarenbeek.nl/evenement/harmonieorkest-concert-samen-met-harmonie-orkest-brummen/
LOCATION:Het Boshuis\, Kerkweg 2\, Klarenbeek\, 7382 BN
END:VEVENT
BEGIN:VEVENT
DTSTART;TZID=Europe/Amsterdam:20200222T123000
DTEND;TZID=Europe/Amsterdam:20200222T160000
DTSTAMP:20260419T213002
CREATED:20191123T170248Z
LAST-MODIFIED:20191123T170248Z
UID:29799-1582374600-1582387200@www.muziekverenigingklarenbeek.nl
SUMMARY:Harmonieorkest - Carnavalsoptocht
DESCRIPTION:
URL:https://www.muziekverenigingklarenbeek.nl/evenement/harmonieorkest-carnavalsoptocht/
LOCATION:Klarenbeek
END:VEVENT
BEGIN:VEVENT
DTSTART;TZID=Europe/Amsterdam:20200125T190000
DTEND;TZID=Europe/Amsterdam:20200125T230000
DTSTAMP:20260419T213002
CREATED:20191123T170122Z
LAST-MODIFIED:20191123T170122Z
UID:29796-1579978800-1579993200@www.muziekverenigingklarenbeek.nl
SUMMARY:Harmonieorkest/kinderkoor - Winterwandeling Klarenbeek
DESCRIPTION:
URL:https://www.muziekverenigingklarenbeek.nl/evenement/harmonieorkest-kinderkoor-winterwandeling-klarenbeek/
LOCATION:Klarenbeek
END:VEVENT
END:VCALENDAR